BEGIN:VCALENDAR
VERSION:2.0
PRODID:-//MedTrop//Activities//FR
CALSCALE:GREGORIAN
METHOD:PUBLISH
BEGIN:VEVENT
UID:962859b4-384a-11f1-afaa-020000117805@medtrop.local
DTSTAMP:20260414T234042
DTSTART:20260414T234042
DTEND:20260415T004042
SUMMARY:Séminaire international sur les maladies tropicales négligées
DESCRIPTION:Un séminaire international réunissant des experts en maladies tropicales négligées se tiendra au campus de l'UNIKIN.
LOCATION:
CATEGORIES:Événement
STATUS:CONFIRMED
SEQUENCE:0
END:VEVENT
END:VCALENDAR