BEGIN:VCALENDAR
VERSION:2.0
PRODID:-//MedTrop//Activities//FR
CALSCALE:GREGORIAN
METHOD:PUBLISH
BEGIN:VEVENT
UID:9628665b-384a-11f1-afaa-020000117805@medtrop.local
DTSTAMP:20260414T234042
DTSTART:20260414T234042
DTEND:20260415T004042
SUMMARY:Résultats de l'étude COVAX en RDC
DESCRIPTION:Publication des résultats préliminaires de l'étude COVAX menée en RDC par nos chercheurs.
LOCATION:
CATEGORIES:Recherche
STATUS:CONFIRMED
SEQUENCE:0
END:VEVENT
END:VCALENDAR