BEGIN:VCALENDAR
VERSION:2.0
PRODID:-//MedTrop//Activities//FR
CALSCALE:GREGORIAN
METHOD:PUBLISH
BEGIN:VEVENT
UID:9628644d-384a-11f1-afaa-020000117805@medtrop.local
DTSTAMP:20260414T234042
DTSTART:20260414T234042
DTEND:20260415T004042
SUMMARY:Programme de formation en épidémiologie de terrain
DESCRIPTION:Inscription ouverte pour le programme de formation continue en épidémiologie de terrain.
LOCATION:
CATEGORIES:Formation
STATUS:CONFIRMED
SEQUENCE:0
END:VEVENT
END:VCALENDAR