BEGIN:VCALENDAR
VERSION:2.0
PRODID:-//MedTrop//Activities//FR
CALSCALE:GREGORIAN
METHOD:PUBLISH
BEGIN:VEVENT
UID:96285705-384a-11f1-afaa-020000117805@medtrop.local
DTSTAMP:20260414T234042
DTSTART:20260414T234042
DTEND:20260415T004042
SUMMARY:Nouveau projet de recherche sur la drépanocytose
DESCRIPTION:Lancement d'un programme de recherche clinique sur la prise en charge de la drépanocytose en RDC.
LOCATION:
CATEGORIES:Recherche
STATUS:CONFIRMED
SEQUENCE:0
END:VEVENT
END:VCALENDAR