BEGIN:VCALENDAR
VERSION:2.0
PRODID:-//MedTrop//Activities//FR
CALSCALE:GREGORIAN
METHOD:PUBLISH
BEGIN:VEVENT
UID:96284038-384a-11f1-afaa-020000117805@medtrop.local
DTSTAMP:20260414T234042
DTSTART:20260414T234042
DTEND:20260415T004042
SUMMARY:Journée mondiale du paludisme 2025 : le Département mobilisé
DESCRIPTION:Le Département de Médecine Tropicale participe activement à la Journée mondiale du paludisme avec une série de conférences et ateliers.
LOCATION:
CATEGORIES:Actualité
STATUS:CONFIRMED
SEQUENCE:0
END:VEVENT
END:VCALENDAR